BEGIN:VCALENDAR
VERSION:2.0
PRODID:icalendar-ruby
CALSCALE:GREGORIAN
METHOD:PUBLISH
BEGIN:VEVENT
DTSTAMP:20260421T131958Z
UID:5-583704@eckhartbaptist.org
DTSTART:20261101T150000Z
DTEND:20261101T160000Z
CLASS:PUBLIC
CREATED:20260421T080255
DESCRIPTION:Sunday Worship
LAST-MODIFIED:20260421T080255
LOCATION:
SUMMARY:Sunday Morning Worship
URL;VALUE=URI:https://eckhartbaptist.org/events/sunday-morning-worship/2026
 -11-01
END:VEVENT
END:VCALENDAR
