BEGIN:VCALENDAR
VERSION:2.0
PRODID:icalendar-ruby
CALSCALE:GREGORIAN
METHOD:PUBLISH
BEGIN:VEVENT
DTSTAMP:20260421T114858Z
UID:5-583351@eckhartbaptist.org
DTSTART:20261025T140000Z
DTEND:20261025T150000Z
CLASS:PUBLIC
CREATED:20260420T205611
DESCRIPTION:Sunday Worship
LAST-MODIFIED:20260420T205611
LOCATION:
SUMMARY:Sunday Morning Worship
URL;VALUE=URI:https://eckhartbaptist.org/events/sunday-morning-worship/2026
 -10-25
END:VEVENT
END:VCALENDAR
