BEGIN:VCALENDAR
VERSION:2.0
PRODID:icalendar-ruby
CALSCALE:GREGORIAN
METHOD:PUBLISH
BEGIN:VEVENT
DTSTAMP:20260423T085404Z
UID:5-587575@eckhartbaptist.org
DTSTART:20261018T140000Z
DTEND:20261018T150000Z
CLASS:PUBLIC
CREATED:20260422T224801
DESCRIPTION:Sunday Worship
LAST-MODIFIED:20260422T224801
LOCATION:
SUMMARY:Sunday Morning Worship
URL;VALUE=URI:https://eckhartbaptist.org/events/sunday-morning-worship/2026
 -10-18
END:VEVENT
END:VCALENDAR
